BEGIN:VCALENDAR
VERSION:2.0
BEGIN:VEVENT
URL:https://www.networkinaction.com/index.php/events/viewevent/3816-l-l-cedar-park?groupid=87 
DTSTART:20210202T150000
DTEND:20210202T163000
SUMMARY:L&L - Cedar Park
DESCRIPTION:We're having a launch and learn for our Cedar Park group at The Grove. Feel encouraged to send someone you think would be a good for this group to this meeting. Remember, we give rewards to our members who help us grow the NIA community.

We'd love to have any members who would like to attend as well. It should be a lot of fun!
LOCATION:The Grove, Cedar Park
END:VEVENT
END:VCALENDAR