BEGIN:VCALENDAR
VERSION:2.0
BEGIN:VEVENT
URL:https://www.networkinaction.com/index.php/events/viewevent/3804-l-l-westlake?groupid=119 
DTSTART:20210128T150000
DTEND:20210128T163000
SUMMARY:L&L - Westlake
DESCRIPTION:We're having a launch and learn for our Westlake group at Paris in a Bite. Feel encouraged to send someone you think would be a good for this group to this meeting. Remember, we give rewards to our members who help us grow the NIA community.

We'd love to have any members who would like to attend as well. It should be a lot of fun!
LOCATION:Paris in a Bite
END:VEVENT
END:VCALENDAR