BEGIN:VCALENDAR
VERSION:2.0
BEGIN:VEVENT
URL:https://www.networkinaction.com/index.php/events/viewevent/3796-coffee-conversations?groupid=119 
DTSTART:20210126T083000
DTEND:20210126T091500
SUMMARY:Coffee Conversations
DESCRIPTION:Come join us every Tuesday morning for a conversation over coffee with members from our full NIA community. Log in is www.networkingwithzoom.com
LOCATION:www.networkingwithzoom.com
END:VEVENT
END:VCALENDAR