BEGIN:VCALENDAR
VERSION:2.0
BEGIN:VEVENT
URL:https://www.networkinaction.com/index.php/events/viewevent/3795-cy-fair-connectors-mini-meeting?groupid=12 
DTSTART:20210203T160000
DTEND:20210203T170000
SUMMARY:Cy-Fair Connectors Mini Meeting
DESCRIPTION:<p>NIA Cy-Fair Connectors Mini Meeting</p>Rep Man training
LOCATION:World of Beer, 9945 Barker Cypress Rd, Cypress, 77433
END:VEVENT
END:VCALENDAR