BEGIN:VCALENDAR
VERSION:2.0
BEGIN:VEVENT
URL:https://www.networkinaction.com/index.php/events/viewevent/3794-monthly-gathering-3-00-to-4-30?groupid=117 
DTSTART:20210209T150000
DTEND:20210209T163000
SUMMARY:Monthly Gathering 3:00 to 4:30  
DESCRIPTION:<p>Join us you will not be disappointed the most unique networking experience yet! Did you know we can help you with 4 and 5 star Google and Facebook  reviews? You will leave every meeting with an added value for your business!  Never make an elevator pitch and our group comes with a guaranteed ROI ! All we need is 90 minutes to show you how we are helping businesses all over the country with monthly networking meetings lead by a professional! No financial commitment until we see if this is a fit for bot of us. Welcome to bring a guest but we will never rely on you to build the group. Hope to see you here!</p><br /><p>http://nia.bz/ZoomSLC</p>
LOCATION: http://nia.bz/ZoomSLC
END:VEVENT
END:VCALENDAR