BEGIN:VCALENDAR
VERSION:2.0
BEGIN:VEVENT
URL:https://www.networkinaction.com/index.php/events/viewevent/3769-nia-st-pete-zoom-meeting?groupid=49 
DTSTART:20210128T160000
DTEND:20210128T164500
SUMMARY:NIA St Pete Zoom Meeting
DESCRIPTION:<p>Join us on Zoom!</p>
LOCATION:tonyzooms.com
END:VEVENT
END:VCALENDAR