BEGIN:VCALENDAR
VERSION:2.0
BEGIN:VEVENT
URL:https://www.networkinaction.com/index.php/events/viewevent/3766-save-the-date-9-00-to-10-00-am-virtual-coffee-clique?groupid=117 
DTSTART:20210126T090000
DTEND:20210126T100000
SUMMARY:Save The Date 9:00 to 10:00 am Virtual Coffee Clique
DESCRIPTION:Looking forward to seeing everyone and meeting all of you. We will be joined by our new community builder Sheri Bolding and Founder of NIA Scott Talley. NIA is now operating in 18 States with 5 new groups being added in Utah now. 
LOCATION:www.zoomwithnia.com
END:VEVENT
END:VCALENDAR