BEGIN:VCALENDAR
VERSION:2.0
BEGIN:VEVENT
URL:https://www.networkinaction.com/index.php/events/viewevent/3759-monthly-meeting-nia-heights-3-00-to-4-30-pm-virtual-only?groupid=1 
DTSTART:20210211T150000
DTEND:20210211T163000
SUMMARY:Monthly Meeting NIA Heights 3:00 to 4:30 pm virtual only 
DESCRIPTION:<p>Join us r on www.zoomwithnia.com, we promise to make this meeting fast paced, educational  and fun! </p>
LOCATION: www.zoomwithnia.com
END:VEVENT
END:VCALENDAR