BEGIN:VCALENDAR
VERSION:2.0
BEGIN:VEVENT
URL:https://www.networkinaction.com/index.php/events/viewevent/3752-network-with-the-nation-march-24th-2021?groupid=108 
DTSTART:20210324T153000
DTEND:20210324T170000
SUMMARY:Network With The Nation | March 24th, 2021
DESCRIPTION:<p>Join us for the NIA's all-new nation-wide networking opportunity. This month-to-month event is available to all NIA members, no matter where you are on the map. Join us for the chance to connect with professionals looking to network outside their locality.</p><br /><br /><p>Join us on Zoom at www.ZoomWithNIA.com!</p><br /><br /><p>We hope to see you there!</p>
LOCATION:www.zoomwithnia.com
END:VEVENT
END:VCALENDAR