BEGIN:VCALENDAR
VERSION:2.0
BEGIN:VEVENT
URL:https://www.networkinaction.com/index.php/events/viewevent/3713-monthly-meeting?groupid=68 
DTSTART:20210114T153000
DTEND:20210114T170000
SUMMARY:Monthly Meeting
DESCRIPTION:
LOCATION:Zoom.us / Meeting ID: 713-678-0468
END:VEVENT
END:VCALENDAR