BEGIN:VCALENDAR
VERSION:2.0
BEGIN:VEVENT
URL:https://www.networkinaction.com/index.php/events/viewevent/3711-january-monthly-meeting?groupid=14 
DTSTART:20210120T153000
DTEND:20210120T170000
SUMMARY:January Monthly Meeting
DESCRIPTION:<p><strong>Please join us for our January Monthly Meeting </strong></p><strong><br /></strong><p><strong>Come meet your new members and guests! We will be having an in-person meeting at the Memorial Wine Bar. We will be social distancing and have the entire bar. Masks will be required unless you are speaking, eating or drinking! </strong></p><strong><br /></strong><p><strong>We also have an option through Zoom for those who cannot  be in person due to quarantining or social distancing because of family members. </strong></p><p><strong>Join Zoom Meeting</strong></p><p><strong>https://us02web.zoom.us/j/6987676230</strong></p><strong><br /></strong><p><strong>So Very excited to see everyone!</strong></p><strong><br /></strong><p><strong>PLEASE RSVP!</strong></p><br /><p>The novel Coronavirus (COVID-19) has been declared a global pandemic by the World</p><p>Health Organization (WHO). I understand that COVID-19 is extremely contagious.</p><p>Attendees must wear masks and practice social distancing while present at live events. </p><p>Attending events acknowledges you knowingly and willingly consent not to hold Network</p><p>In Action at fault for attending any live events leading to possible exposure.</p>
LOCATION:7951 Katy Freeway 
END:VEVENT
END:VCALENDAR