BEGIN:VCALENDAR
VERSION:2.0
BEGIN:VEVENT
URL:https://www.networkinaction.com/index.php/events/viewevent/3702-rsvp-for-your-first-nia-meeting-of-2021-wed-1-13-21?groupid=72 
DTSTART:20210113T150000
DTEND:20210113T163000
SUMMARY:RSVP for your first NIA meeting of 2021 - Wed 1/13/21
DESCRIPTION:
LOCATION:Zoom - zoomwithjongreer.com , meeting ID 7674301875
END:VEVENT
END:VCALENDAR