BEGIN:VCALENDAR
VERSION:2.0
BEGIN:VEVENT
URL:https://www.networkinaction.com/index.php/events/viewevent/3701-january-nia-meeting 
DTSTART:20210113T150000
DTEND:20210113T163000
SUMMARY:January NIA Meeting
DESCRIPTION:<p>Welcome 2021,  cheers to a better year and massive growth.  Critical Mass- the minimum amount of fissile material needed to maintain a nuclear chain reaction.  The point of this group is so we can help each other add that spark, that material and knowledge to each others businesses, that we all create a reaction in our business that we help but to GROW.</p>
LOCATION:Cut Foil; 20801 Gulf Fwy #24, Webster, TX 77598
END:VEVENT
END:VCALENDAR