BEGIN:VCALENDAR
VERSION:2.0
BEGIN:VEVENT
URL:https://www.networkinaction.com/index.php/events/viewevent/3697-testing-profile-event 
DTSTART:20210130T080000
DTEND:20210130T090000
SUMMARY:testing profile event
DESCRIPTION:testing profile event<br />
LOCATION:WFH
END:VEVENT
END:VCALENDAR