BEGIN:VCALENDAR
VERSION:2.0
BEGIN:VEVENT
URL:https://www.networkinaction.com/index.php/events/viewevent/3681-wbf-january-meeting?groupid=77 
DTSTART:20210112T150000
DTEND:20210112T163000
SUMMARY:WBF January Meeting
DESCRIPTION:<p>Join your fellow group members for our first meeting of 2021.  Looking forward to seeing you there and kicking off the year with a bang!</p><p>Join via Zoom here:  https://us02web.zoom.us/j/84050574672?pwd=RWdNdlp2SndoWXZrUlo4akt2TGw5UT09</p>
LOCATION:Churrascos Memorial City @  290 Gessner Rd, 2 floor, Houston, TX 77024 & Zoom
END:VEVENT
END:VCALENDAR