BEGIN:VCALENDAR
VERSION:2.0
BEGIN:VEVENT
URL:https://www.networkinaction.com/index.php/events/viewevent/3680-january-meeting?groupid=140 
DTSTART:20210113T150000
DTEND:20210113T163000
SUMMARY:January Meeting
DESCRIPTION:Join your fellow group members for our first meeting of 2021.  Looking forward to seeing you there.
LOCATION:Churrascos Sugar Land, 1520 Lake Pointe Pkwy, Ste 500, Sugar Land, TX 77478
END:VEVENT
END:VCALENDAR