BEGIN:VCALENDAR
VERSION:2.0
BEGIN:VEVENT
URL:https://www.networkinaction.com/index.php/events/viewevent/3668-2021-kick-off-the-year-right-nia-heights-monthly-meeting?groupid=1 
DTSTART:20210114T150000
DTEND:20210114T163000
SUMMARY:2021 Kick off the year right NIA Heights Monthly Meeting 
DESCRIPTION:<p>This is a very important meeting as we have a number of new members and we will be focusing on how we can really help each other. Miss this one and your business will be behind all year on referrals! Please remember to get a sub if you do have to miss. We are now at 30 members strong. Do you know how to help all 30? </p>
LOCATION:www.zoomwithnia.com
END:VEVENT
END:VCALENDAR