BEGIN:VCALENDAR
VERSION:2.0
BEGIN:VEVENT
URL:https://www.networkinaction.com/index.php/events/viewevent/3665-veterans-business-force-intro-meeting?groupid=147 
DTSTART:20210108T120000
DTEND:20210108T130000
SUMMARY:Veterans Business Force Intro Meeting
DESCRIPTION:<p>Join me and your fellow group members for a brief introductory meeting.  You will meet each other and learn about our technology and other elements of how our group will operate.  Join us here:  Zoom:  https://us02web.zoom.us/j/87232418594?pwd=c24raDB0cEtIaFZJS1VYelRPays4QT09, passcode:  107051.</p><p>I look forward to seeing you there!</p>
LOCATION:Zoom: https://us02web.zoom.us/j/87232418594?pwd=c24raDB0cEtIaFZJS1VYelRPays4QT09, passcode:  107051
END:VEVENT
END:VCALENDAR