BEGIN:VCALENDAR
VERSION:2.0
BEGIN:VEVENT
URL:https://www.networkinaction.com/index.php/events/viewevent/3663-network-in-action-mixer-jan-14th-3-to-4-30-pm-et?groupid=29 
DTSTART:20210114T150000
DTEND:20210114T163000
SUMMARY:Network in Action Mixer - Jan 14th, 3 to 4.30 PM ET
DESCRIPTION:<p>Hi All, 
</p><p>
We are starting the New Year with Network in Action Open House Mixer. Expecting a lot of visitors and would love to see you bring a guest. Let me know if you want to send your guest an invitation.</p><p>Thanks</p>Sumair <br /><br />
LOCATION:https://us02web.zoom.us/j/9018421246 
END:VEVENT
END:VCALENDAR