BEGIN:VCALENDAR
VERSION:2.0
BEGIN:VEVENT
URL:https://www.networkinaction.com/index.php/events/viewevent/3653-nia-jackbox-party-happy-hour?groupid=50 
DTSTART:20210122T160000
DTEND:20210122T173000
SUMMARY:NIA Jackbox Party Happy Hour
DESCRIPTION:<p>We will start with some zoom networking then hop over to Jackbox to continue the fun!  Mark your calendar and join for a great time!</p><p>Zoom meeting: https://zoom.us/j/9460662409?pwd=dkVxRFR1VUw5Z3M4akNMY2ZWcWJzZz09</p>
LOCATION:See meeting description for details. 
END:VEVENT
END:VCALENDAR