BEGIN:VCALENDAR
VERSION:2.0
BEGIN:VEVENT
URL:https://www.networkinaction.com/index.php/events/viewevent/3652-nia-north-austin-january-monthly-meeting?groupid=53 
DTSTART:20210107T030000
DTEND:20210107T163000
SUMMARY:NIA North Austin January Monthly Meeting
DESCRIPTION:It's time for our January NIA meeting.  Mark your calendar and plan to join in the fun and create new referrals for 2021!
LOCATION:TBD
END:VEVENT
END:VCALENDAR