BEGIN:VCALENDAR
VERSION:2.0
BEGIN:VEVENT
URL:https://www.networkinaction.com/index.php/events/viewevent/3651-nia-monthly-mixer?groupid=49 
DTSTART:20210108T160000
DTEND:20210108T173000
SUMMARY:NIA Monthly Mixer!
DESCRIPTION:<p>Join us for our monthly mixer!</p>
LOCATION:Bubba Gump Shrimp Co, John's Pass, Madeira Beach
END:VEVENT
END:VCALENDAR