BEGIN:VCALENDAR
VERSION:2.0
BEGIN:VEVENT
URL:https://www.networkinaction.com/index.php/events/viewevent/3639-veterans-business-force-launch-meeting?groupid=147 
DTSTART:20210114T150000
DTEND:20210114T163000
SUMMARY:Veterans Business Force Launch Meeting
DESCRIPTION:<p>Plan on joining your fellow group members for the launch of NIA Veterans Business Force! I look forward to bringing you all together and helping you build relationships that will last a lifetime and help you grow your business! We will grow our businesses and have fun doing it! See you there!</p>
LOCATION:Churrascos Memorial City @  947 Gessner Road Suite B-290(Second Floor)Houston, Texas 77024
END:VEVENT
END:VCALENDAR