BEGIN:VCALENDAR
VERSION:2.0
BEGIN:VEVENT
URL:https://www.networkinaction.com/index.php/events/viewevent/3638-nia-cy-fair-monthly-meeting?groupid=12 
DTSTART:20210216T150000
DTEND:20210216T163000
SUMMARY:NIA Cy-Fair Monthly Meeting 
DESCRIPTION:NIA Cy-Fair Connectors February Meeting
LOCATION:World of Beer, 9945 Barker Cypress Rd, Cypress, 77433
END:VEVENT
END:VCALENDAR