BEGIN:VCALENDAR
VERSION:2.0
BEGIN:VEVENT
URL:https://www.networkinaction.com/index.php/events/viewevent/3621-christmas-mingle-jingle?groupid=87 
DTSTART:20201217T173000
DTEND:20201217T200000
SUMMARY:Christmas Mingle Jingle
DESCRIPTION:<p>We will be providing the beverages and food. It will be at a rental home in Westlake with indoor and outdoor with fire pit. There will be awards for each group as well BUT you must be present to win. And one random award for the UGLIEST CHRISTMAS SWEATER!
</p>
<p>We do love kids but since we are having alcohol we prefer this be adult only and yes you can bring a +1 or guest. We love people. Also, we shall have plenty of hand sanitizer and bring a mask as needed/warranted.</p>
LOCATION:3315 Lookout Ln, Austin, TX 78746
END:VEVENT
END:VCALENDAR