BEGIN:VCALENDAR
VERSION:2.0
BEGIN:VEVENT
URL:https://www.networkinaction.com/index.php/events/viewevent/3612-end-of-year-multi-group-zoom-meeting-from-3-4-30?groupid=87 
DTSTART:20201216T150000
DTEND:20201216T163000
SUMMARY:End of Year Multi-Group Zoom Meeting From 3-4:30
DESCRIPTION:<p>We'll also be having an in-person outdoor event on Thursday evening, but if you're either unable or cautious about attending in person events then this is the one for you. All members from all our NIA groups are invited to attend along with any visitors you may want to bring with you.
</p>

<p>We look forward to closing out the year with you!</p>
LOCATION:Zoom
END:VEVENT
END:VCALENDAR