BEGIN:VCALENDAR
VERSION:2.0
BEGIN:VEVENT
URL:https://www.networkinaction.com/index.php/events/viewevent/3600-nia-st-pete-monthly-meeting?groupid=49 
DTSTART:20210114T160000
DTEND:20210114T164500
SUMMARY:NIA St Pete Monthly Meeting
DESCRIPTION:<p>Join us for our first official meeting of 2021!</p>
LOCATION:tonyzooms.com
END:VEVENT
END:VCALENDAR