BEGIN:VCALENDAR
VERSION:2.0
BEGIN:VEVENT
URL:https://www.networkinaction.com/index.php/events/viewevent/3577-dec-10th-nia-monthly-members-meeting-zoom-id-9018421246?groupid=29 
DTSTART:20201210T150000
DTEND:20201210T163000
SUMMARY:Dec 10th - NIA Monthly Members  Meeting - Zoom ID: 9018421246
DESCRIPTION:
LOCATION:https://us02web.zoom.us/j/9018421246
END:VEVENT
END:VCALENDAR