BEGIN:VCALENDAR
VERSION:2.0
BEGIN:VEVENT
URL:https://www.networkinaction.com/index.php/events/viewevent/3565-nia-bf-christmas-holiday-happy-hour?groupid=147 
DTSTART:20201214T170000
DTEND:20201214T190000
SUMMARY:NIA BF Christmas/Holiday Happy Hour
DESCRIPTION:<p>I invite you to join your fellow group members, along with the members of the other Business Force groups for our December happy hour and Christmas/holiday celebration.  Looking forward to seeing you there!</p>
LOCATION:Brio @ City Centre, 12808 Queensbury Ln, Houston, TX 77024
END:VEVENT
END:VCALENDAR