BEGIN:VCALENDAR
VERSION:2.0
BEGIN:VEVENT
URL:https://www.networkinaction.com/index.php/events/viewevent/3563-nia-bf-december-happy-hour?groupid=77 
DTSTART:20201214T170000
DTEND:20201214T190000
SUMMARY:NIA BF December Happy Hour
DESCRIPTION:I invite you to join your fellow group members, along with the members of the other Business Force groups for our December happy hour and Christmas/holiday celebration.  Looking forward to seeing you there!
LOCATION:Brio @ City Centre, 12808 Queensbury Ln, Houston, TX 77024
END:VEVENT
END:VCALENDAR