BEGIN:VCALENDAR
VERSION:2.0
BEGIN:VEVENT
URL:https://www.networkinaction.com/index.php/events/viewevent/3562-slbf-december-meeting?groupid=140 
DTSTART:20201209T150000
DTEND:20201209T163000
SUMMARY:SLBF December Meeting
DESCRIPTION:Please plan on joining us for our December meeting.  Looking forward to seeing you there!
LOCATION:Churrascos Sugar Land, 1520 Lake Pointe Pkwy, Ste 500, Sugar Land, TX 77478
END:VEVENT
END:VCALENDAR