BEGIN:VCALENDAR
VERSION:2.0
BEGIN:VEVENT
URL:https://www.networkinaction.com/index.php/events/viewevent/3561-december-meeting?groupid=77 
DTSTART:20201208T150000
DTEND:20201208T163000
SUMMARY:December Meeting
DESCRIPTION:<p>Join us for our December meeting.  We will be doing a hybrid meeting again, both live and on Zoom.  To join via Zoom:  https://us02web.zoom.us/j/86073185352?pwd=VENSNzU3bjhDWWtHaWNGekgyald0UT09 and use pass code:   376240.</p><p>Looking forward to seeing you there!</p>
LOCATION:Churrascos Westchase @ 9705 Westheimer @ Gessner & Zoom
END:VEVENT
END:VCALENDAR