BEGIN:VCALENDAR
VERSION:2.0
BEGIN:VEVENT
URL:https://www.networkinaction.com/index.php/events/viewevent/3558-giving-back-to-the-community?groupid=86 
DTSTART:20201209T140000
DTEND:20201209T160000
SUMMARY:Giving Back to the Community
DESCRIPTION:<p>Come wrap presents for HELP. It will be outside and socially distanced. There are currently 10 of us confimed for this event. We will also be adopting a family for the Holiday. Learn more: https://homelessliftpartnership.com/reach-2/ </p>
LOCATION:11034N 23rd Drive # 105 Phx AZ 85029
END:VEVENT
END:VCALENDAR