BEGIN:VCALENDAR
VERSION:2.0
BEGIN:VEVENT
URL:https://www.networkinaction.com/index.php/events/viewevent/3556-december-nia-meeting-endings-and-beginnings-please-rsvp?groupid=72 
DTSTART:20201209T150000
DTEND:20201209T163000
SUMMARY:December NIA Meeting: Endings and Beginnings - Please RSVP
DESCRIPTION:<p>2021 has got to be better, right? </p><p>But let's not kick 2020 to the curb without giving some thought to what we learned, what surprised us (other than the virus itself), and if you'd like to share, what was lost.</p><p>Next - Please come prepared to share information about a charity or other entity that you support, so we can support them too.</p><p>Finally - 2021 - what's ahead? What's realistic to expect, what are we hoping for? What's your prediction about how the year will play out on the Covid and economic fronts? <br /><br /></p><p><br /></p><p></p>
LOCATION:Zoom - zoomwithjongreer.com , meeting ID 7674301875
END:VEVENT
END:VCALENDAR