BEGIN:VCALENDAR
VERSION:2.0
BEGIN:VEVENT
URL:https://www.networkinaction.com/index.php/events/viewevent/3555-combined-online-holiday-party-with-network-in-action-central-phoenix?groupid=86 
DTSTART:20201203T160000
DTEND:20201203T173000
SUMMARY:Combined Online Holiday Party! with Network in Action Central Phoenix 
DESCRIPTION:<p>Visit our growing Network in Action group!
</p>
<p>This will be an online Holiday Celebration with NIA Central Phoenix peeps. 
</p>
<p>We will connect intentionally - build relationships - give referrals and learn more about growing our businesses.
</p>
<p>You never know... we might just introduce you to your next client!
</p>
<p>Since both Tish and I are growing our groups - we have room for guests this month so don't miss the chance to connect with fabulous business leaders who are serious about growing and helping others to do the same.
</p>
<p>Feel free to bring other business owners you may know, just make sure they RSVP using this invite.
</p><p>
RSVP right away to confirm and guarantee your spot. Details will be sent after registration.  Resgister on Tish's event post. https://www.eventbrite.com/e/december-3rd-network-in-action-central-phoenix-online-holiday-party-tickets-129730372035</p>
<p>Intentionally...Growing Business Together.
</p>
LOCATION:www.niaconnectwithTish.com  If it asks for a passcode: netWORK
END:VEVENT
END:VCALENDAR