BEGIN:VCALENDAR
VERSION:2.0
BEGIN:VEVENT
URL:https://www.networkinaction.com/index.php/events/viewevent/3554-nia-cy-fair-connectors-monthly-meeting?groupid=12 
DTSTART:20210119T150000
DTEND:20210119T163000
SUMMARY:NIA Cy-Fair Connectors Monthly Meeting 
DESCRIPTION:NIA Cy-Fair Connectors January Meeting
LOCATION:World of Beer, 9945 Barker Cypress Rd, Cypress, 77433
END:VEVENT
END:VCALENDAR