BEGIN:VCALENDAR
VERSION:2.0
BEGIN:VEVENT
URL:https://www.networkinaction.com/index.php/events/viewevent/3553-nia-katy-connectors-monthly-meeting?groupid=9 
DTSTART:20210112T150000
DTEND:20210112T163000
SUMMARY:NIA Katy Connectors Monthly Meeting
DESCRIPTION:NIA Katy Connectors January Meeting
LOCATION:El Asador Mexican Restaurant, 3750 S. Mason Rd, Katy, 77450
END:VEVENT
END:VCALENDAR