BEGIN:VCALENDAR
VERSION:2.0
BEGIN:VEVENT
URL:https://www.networkinaction.com/index.php/events/viewevent/3552-nia-christmas-party?groupid=49 
DTSTART:20201217T190000
DTEND:20201217T210000
SUMMARY:NIA Christmas Party
DESCRIPTION:<p>Join us for some holiday cheer and good company!</p>
LOCATION:6119 Kipps Colony Dr W, Gulfport FL 33707
END:VEVENT
END:VCALENDAR