BEGIN:VCALENDAR
VERSION:2.0
BEGIN:VEVENT
URL:https://www.networkinaction.com/index.php/events/viewevent/3550-nia-st-pete-monthly-meeting?groupid=49 
DTSTART:20201210T160000
DTEND:20201210T173000
SUMMARY:NIA St Pete Monthly Meeting
DESCRIPTION:<p>Join us every 2nd Thursday of the month.</p>
LOCATION:tonyzooms.com
END:VEVENT
END:VCALENDAR