BEGIN:VCALENDAR
VERSION:2.0
BEGIN:VEVENT
URL:https://www.networkinaction.com/index.php/events/viewevent/3536-farewell-to-neal-mixer-on-the-patio-warehouse-72?groupid=1 
DTSTART:20201119T160000
DTEND:20201119T181500
SUMMARY:Farewell To Neal Mixer on the Patio warehouse 72 
DESCRIPTION:Neal McGlone is heading home to Pittsburgh to be near his family. Neal was one of the first 5 NIA members 6 years ago and has helped so many people stop by if you can we will be on the patio and socially distanced. this is a stop by any time between 4 and 6 pm event. 
LOCATION:Warehouse 72 7620 Katy Freeway Suite 305 Patio
END:VEVENT
END:VCALENDAR