BEGIN:VCALENDAR
VERSION:2.0
BEGIN:VEVENT
URL:https://www.networkinaction.com/index.php/events/viewevent/3532-nia-st-pete-zoom-meeting?groupid=49 
DTSTART:20201119T160000
DTEND:20201119T164500
SUMMARY:NIA St Pete Zoom Meeting
DESCRIPTION:<p>Join us this Thursday on Zoom!</p>
LOCATION:tonyzooms.com
END:VEVENT
END:VCALENDAR