BEGIN:VCALENDAR
VERSION:2.0
BEGIN:VEVENT
URL:https://www.networkinaction.com/index.php/events/viewevent/3518-december-holiday-meeting?groupid=14 
DTSTART:20201202T153000
DTEND:20201202T170000
SUMMARY:December Holiday Meeting
DESCRIPTION:<p>Please Join  Us for a Holiday Celebration at Our Last Meeting of the Year!</p> <br /><p>Holiday Networking Games  and a Few Surprises!  Meet your new members and guests! </p><p>Zoom in December - Due to a very large family wedding over Thanksgiving - we will Zoom only!</p><br /><p>Join Zoom Meeting
</p><p>https://us02web.zoom.us/j/6987676230
</p>
<p>Meeting ID: 698 767 6230
</p><p><br /> <br /><p>WE LOOK FORWARD TO SEEING YOU</p><br /><p>JOYCE AND GRANT</p></p>
LOCATION:https://us02web.zoom.us/j/6987676230
END:VEVENT
END:VCALENDAR