BEGIN:VCALENDAR
VERSION:2.0
BEGIN:VEVENT
URL:https://www.networkinaction.com/index.php/events/viewevent/3515-nia-virtual-launch-learn?groupid=50 
DTSTART:20201124T150000
DTEND:20201124T160000
SUMMARY:NIA Virtual Launch & Learn
DESCRIPTION:<p>Do you know a local business owner that would like to increase referral business?  Someone who is great at what they do and also understands the value of building strong business relationships in the community?  If so, please invite them to attend our NIA Virtual Launch & Learn!</p><p>This Zoom session will provide an overview of Network In Action and cover the six things that make NIA different from other networking groups.  We also will introduce our three local chapters and share meeting details.</p><p>If you know a local business owner that would like to learn more, please submit a referral for them through the NIA system making a note in the comments section that they are interested in the Launch & Learn.  I will follow up with a meeting invitation.  If your referral does end up as a new NIA member, you will receive a free month of membership as a thank you!</p><p>Looking forward to growing our membership!</p><br /><p>Zoom link for meeting:</p><p>https://zoom.us/j/94550056478<br /></p><p>Password: NIACBell</p>
LOCATION:Zoom meeting link in the description
END:VEVENT
END:VCALENDAR