BEGIN:VCALENDAR
VERSION:2.0
BEGIN:VEVENT
URL:https://www.networkinaction.com/index.php/events/viewevent/3502-monthly-hybrid-inperson-and-online-meeting?groupid=86 
DTSTART:20201111T150000
DTEND:20201111T163000
SUMMARY:Monthly HYBRID - inperson and online meeting
DESCRIPTION:Our monthly meeting is this Wed. at 3 to 4:30 pm both INPERSON at La Torretta:   16640 N Scottsdale Rd, Scottsdale, AZ 85254 or ONLINE at www.zoomwithNIAKim.com . (I got external mic and speakers so should be better that last month)  Feel free to invite business owners or clients to meet your fellow NIA members. Just let me know so I have the corrrect in person count.
LOCATION: 16640 N Scottsdale Rd, Scottsdale, AZ 85254
END:VEVENT
END:VCALENDAR