BEGIN:VCALENDAR
VERSION:2.0
BEGIN:VEVENT
URL:https://www.networkinaction.com/index.php/events/viewevent/3493-november-monthly-meeting-cypress?groupid=11 
DTSTART:20201119T153000
DTEND:20201119T170000
SUMMARY:November Monthly Meeting - Cypress
DESCRIPTION:Cypress Monthly Meeting - Virtual on Zoom and Live at BBs Tex-Orleans, Hempstead Hwy, Cypress, 77429 
LOCATION:Virtual on Zoom and Live at BBs 
END:VEVENT
END:VCALENDAR