BEGIN:VCALENDAR
VERSION:2.0
BEGIN:VEVENT
URL:https://www.networkinaction.com/index.php/events/viewevent/3492-rsvp-for-your-nia-meeting-on-wednesday-november-11-an-attitude-of-gratitude?groupid=72 
DTSTART:20201111T150000
DTEND:20201111T163000
SUMMARY:RSVP for your NIA Meeting on Wednesday November 11: An Attitude of Gratitude
DESCRIPTION:
LOCATION:Hybrid - Jon's Patio and Zoom
END:VEVENT
END:VCALENDAR