BEGIN:VCALENDAR
VERSION:2.0
BEGIN:VEVENT
URL:https://www.networkinaction.com/index.php/events/viewevent/3490-november-happy-hour?groupid=140 
DTSTART:20201119T170000
DTEND:20201119T190000
SUMMARY:November Happy Hour
DESCRIPTION:<p>Join your fellow group members for our November happy hour!  Now that I have two groups, everyone from both groups is invited, to give you all a chance to expand your networks further.  
</p>
<p>For those who are comfortable getting out and getting together, I would love to see you.  You are welcome to invite colleagues or friends to join us who may be good prospects to join our groups.  I hope to see you there!
</p>
<br />
LOCATION:The Pub Fountains,  12720 Southwest Fwy, Stafford, TX 77477
END:VEVENT
END:VCALENDAR