BEGIN:VCALENDAR
VERSION:2.0
BEGIN:VEVENT
URL:https://www.networkinaction.com/index.php/events/viewevent/3487-mixer-at-caddy-s-gulfport?groupid=49 
DTSTART:20201113T173000
DTEND:20201113T190000
SUMMARY:Mixer at Caddy's Gulfport
DESCRIPTION:<p>Join us on the rooftop patio for networking and fun!</p>
LOCATION:3128 Beach Blvd S, Gulfport FL 33707
END:VEVENT
END:VCALENDAR