BEGIN:VCALENDAR
VERSION:2.0
BEGIN:VEVENT
URL:https://www.networkinaction.com/index.php/events/viewevent/3485-monthly-meeting?groupid=66 
DTSTART:20201208T160000
DTEND:20201208T173000
SUMMARY:Monthly Meeting
DESCRIPTION:
LOCATION:Zoom.us, Meeting ID 713-678-0468
END:VEVENT
END:VCALENDAR