BEGIN:VCALENDAR
VERSION:2.0
BEGIN:VEVENT
URL:https://www.networkinaction.com/index.php/events/viewevent/3477-slbf-introductory-mini-meet?groupid=140 
DTSTART:20201106T120000
DTEND:20201106T131500
SUMMARY:SLBF Introductory Mini Meet
DESCRIPTION:<p>Join your group members for the first get together of the group to briefly meet each other and get an orientation to NIA SLBF.  Join via Zoom here:  </p><p>https://us02web.zoom.us/j/88494152030?pwd=c05vNU5uL1grOURqYVZ4NkdxYWxsUT09
</p>
<p>Meeting ID: 884 9415 2030
</p><p>Passcode: 553246
</p><br />
LOCATION:Zoom:  https://us02web.zoom.us/j/88494152030?pwd=c05vNU5uL1grOURqYVZ4NkdxYWxsUT09
END:VEVENT
END:VCALENDAR